BEGIN:VCALENDAR
PRODID:-//mkc-ljutomer.si//SI
VERSION:2.0
METHOD:PUBLISH
BEGIN:VEVENT
DTSTART;TZID=Europe/Ljubljana:20260512T1430
DTEND;TZID=Europe/Ljubljana:20260512T1800
URL:https://mkc-ljutomer.si/koledar/delavnica-center-za-socialno-delo-pomurje/
SUMMARY:Delavnica (Center za socialno delo Pomurje)
LOCATION:MKC Ljutomer
DESCRIPTION:
END:VEVENT
END:VCALENDAR