BEGIN:VCALENDAR
PRODID:-//mkc-ljutomer.si//SI
VERSION:2.0
METHOD:PUBLISH
BEGIN:VEVENT
DTSTART;TZID=Europe/Ljubljana:20260504T1600
DTEND;TZID=Europe/Ljubljana:20260504T1700
URL:https://mkc-ljutomer.si/koledar/sestanek-za-dan-druzine-odpm-ljutomer/
SUMMARY:Sestanek za dan družine (ODPM Ljutomer)
LOCATION:
DESCRIPTION:
END:VEVENT
END:VCALENDAR